Workbook

Sheet แบบ 2515-2
H1: แบบ 2515 - 2
A2: แบบสรุปผลการประเมินการปฏิบัติงานด้านการเงิน การบัญชีของสถานศึกษา
A3: ที่ปฏิบัติตามคู่มือการบัญชีสำหรับหน่วยงานย่อย พ.ศ. 2515
A4: ประจำปีงบประมาณ พ.ศ. .........
A5: เพียงวันที่.............................................
A6: โรงเรียน | E6: สังกัด
C7: จำนวนนักเรียน | E7: คน | F7: (ระบุจำนวนนักเรียนในสังกัด)
A9: ที่ | B9: รายการ | G9: คะแนนตามเกณฑ์ | H9: คะแนนประเมินที่ได้
A10: 1 | B10: การบริหารการเงินของสถานศึกษา
B11: การจัดทำแผนปฏิบัติการประจำปี
B12: 1.1 | C12: สถานศึกษามีการจัดทำแผนปฏิบัติการประจำปี | G12: 2
B13: 1.2 | C13: แผนปฏิบัติการประจำปีมีความสอดคล้องกับภารกิจของสถานศึกษา นโยบายและจุดเน้น ของสำนักงานคณะกรรมการการศึกษาขั้นพื้นฐาน | G13: 1
B14: 1.3 | C14: แผนปฏิบัติการประจำปีครอบคลุมแหล่งเงินทุกประเภทที่อยู่ในความรับผิดชอบ ของสถานศึกษา | G14: 1
B15: 1.4 | C15: แผนปฏิบัติการประจำปีได้รับความเห็นชอบจากคณะกรรมการสถานศึกษาขั้นพื้นฐาน | G15: 1
B16: การดำเนินการตามแผนปฏิบัติการประจำปี
B17: 1.5 | C17: มีการจัดทำทะเบียนหรือเอกสารควบคุมการใช้จ่ายเงินโครงการ/กิจกรรมเพื่อควบคุม การใช้จ่ายเงิน ให้เป็นไปตามแผนปฏิบัติการประจำปี | G17: 1
B18: 1.6 | C18: การใช้จ่ายแต่ละโครงการ/กิจกรรมเป็นไปตามแผนปฏิบัติการประจำปี กรณีมีความจำเป็น ไม่สามารถดำเนินงานโครงการ/กิจกรรมให้เป็นไปตามแผนปฏิบัติการประจำปีได้ สถานศึกษาได้รายงานปัญหา/อุปสรรคการดำเนินงานให้ผู้อำนวยการสถานศึกษาทราบ | G18: 2
B19: การติดตามและรายงานผลการดำเนินงาน
B20: 1.7 | C20: สถานศึกษามีการติดตามเร่งรัดการดำเนินงานโครงการ/กิจกรรม ให้มีการใช้จ่ายเงิน เป็นไปตามแผนปฏิบัติการประจำปีอย่างน้อยทุกภาคเรียน | G20: 1
B21: 1.8 | C21: จัดทำรายงานผลการดำเนินงานครบถ้วนทุกโครงการ/กิจกรรม ตามที่กำหนด ในแผนปฏิบัติการประจำปี เสนอให้ผู้อำนวยการสถานศึกษาทราบ | G21: 1
F22: รวม | G22: =SUM(G12:G21) -> 10 | H22: =SUM(H12:H21) -> 0
A23: 2 | B23: การควบคุมเงินคงเหลือ
B24: 2.1 | C24: จัดทำรายงานเงินคงเหลือประจำวันเป็นประจำวันทุกวัน ที่มีการรับและจ่ายเงิน โดยจัดทำถูกต้องเป็นปัจจุบัน และเสนอให้ผู้อำนวยการสถานศึกษาทราบและลงนาม | G24: 5
B25: 2.2 | C25: ยอดเงินคงเหลือตามรายงานเงินคงเหลือประจำวันถูกต้อง ตรงกับยอดคงเหลือยกไปในสมุดเงินสด | G25: 5
B26: 2.3 | C26: ยอดเงินสดคงเหลือ มีอยู่จริงครบถ้วนและตรงกับรายงานเงินคงเหลือประจำวัน | G26: 2
B27: 2.4 | C27: ยอดเงินฝากธนาคารคงเหลือตามสมุดคู่ฝากธนาคาร (ประเภทออมทรัพย์/ประจำ) และทะเบียนเงินฝากธนาคารประเภทกระแสรายวันทุกบัญชี ตรงกับรายงานเงินคงเหลือประจำวัน หมายเหตุ : กรณีโรงเรียนไม่มีเงินฝากธนาคารประเภทกระแสรายวัน ให้ระบุ N/A | G27: 5
B28: 2.5 | C28: ยอดเงินฝากส่วนราชการผู้เบิกตามสมุดคู่ฝาก (ส่วนราชการผู้เบิก) ตรงกับรายงานเงินคงเหลือประจำวัน | G28: 3
F29: รวม | G29: =SUM(G24:G28) -> 20 | H29: =(SUM(H23:H28)+(5*(COUNTIF(H27,"N/A")))) -> 0
A30: 3 | B30: การเก็บรักษาเงิน
B31: 3.1 | C31: มีคำสั่งคณะกรรมการเก็บรักษาเงิน ตามระเบียบที่กระทรวงการคลังกำหนด (ปัจจุบันถือปฏิบัติตามระเบียบกระทรวงการคลัง ว่าด้วยการเบิกเงินจากคลัง การรับเงิน การจ่ายเงิน การเก็บรักษาเงิน และการนำเงินส่งคลัง พ.ศ. 2562 ข้อ 86 - ข้อ 88 โดยอนุโลม) | G31: 1
B32: 3.2 | C32: กรรมการเก็บรักษาเงินปฏิบัติหน้าที่ตามระเบียบกำหนด | G32: 1
B33: 3.3 | C33: การเก็บรักษาเงินสดและเงินฝากธนาคารแต่ละประเภท เป็นไปตามวงเงินอำนาจการเก็บรักษาที่กระทรวงการคลังอนุมัติ และระเบียบที่เกี่ยวข้อง (เงินรายได้สถานศึกษา เงินอุดหนุน เงินภาษีหัก ณ ที่จ่าย เงินลูกเสือ เงินเนตรนารี เงินยุวกาชาด และเงินรายได้แผ่นดิน ฯลฯ | G33: 2
B34: 3.4 | C34: เงินรายได้แผ่นดิน มีการนำส่งคลังอย่างน้อยเดือนละ 1 ครั้ง กรณีวันใดมีเงินรายได้แผ่นดินเก็บรักษาเกินกว่า 10,000 บาท มีการนำเงินส่งคลัง อย่างช้าไม่เกิน 3 วันทำการถัดไป | G34: 0.5
B35: 3.5 | C35: เงินภาษีหัก ณ ที่จ่าย มีการนำส่งสรรพากรในท้องที่ ภายใน 7 วัน นับแต่วันสิ้นเดือนของเดือนที่จ่ายเงินให้เจ้าหนี้ กรณีที่สถานศึกษายื่นผ่านระบบออนไลน์ของกรมสรรพากรมีการนำส่งเงินภายใน 15 วัน นับแต่วันสิ้นเดือนของเดือนที่จ่ายเงินให้เจ้าหนี้ | G35: 0.5
F36: รวม | G36: =SUM(G31:G35) -> 5 | H36: =SUM(H31:H35) -> 0
A37: 4 | B37: การควบคุมการรับเงิน
B38: 4.1 | C38: มีคำสั่งหรือบันทึกมอบหมายผู้ทำหน้าที่รับจ่ายเงินอย่างชัดเจน | G38: 1
B39: 4.2 | C39: ผู้ทำหน้าที่รับเงินเป็นผู้ที่ได้รับมอบหมายตามคำสั่ง หรือบันทึกมอบหมาย ของผู้อำนวยการสถานศึกษา | G39: 2
B40: 4.3 | C40: มีการออกใบเสร็จรับเงินตามแบบของสำนักงานคณะกรรมการการศึกษาขั้นพื้นฐาน ให้แก่ผู้ชำระเงินทุกครั้งที่มีการรับเงิน ยกเว้น กรณีรับดอกเบี้ยเงินฝากธนาคาร และเงินภาษีหัก ณ ที่จ่าย | G40: 4
B41: 4.4 | C41: ใบเสร็จรับเงินระบุรายละเอียดรายการ ครบถ้วน สมบูรณ์ | G41: 2
B42: 4.5 | C42: ยอดเงินรวมในใบเสร็จรับเงินทุกฉบับที่มีการรับเงินตรงกับยอดเงินที่สรุปไว้ด้านหลัง สำเนาใบเสร็จรับเงินฉบับสุดท้ายของแต่ละวัน | G42: 1
F43: รวม | G43: =SUM(G38:G42) -> 10 | H43: =SUM(H38:H42) -> 0
A44: 5 | B44: การควบคุมการจ่ายเงิน
B45: 5.1 | C45: การจ่ายเงินแต่ละประเภทตรงตามวัตถุประสงค์ และระเบียบหรือแนวทางการดำเนินงาน ที่กำหนด | G45: 5
B46: 5.2 | C46: การจ่ายเงินทุกรายการได้รับอนุมัติจากผู้อำนวยการสถานศึกษา | G46: 5
B47: 5.3 | C47: มีหลักฐานการจ่ายถูกต้อง ครบถ้วนทุกรายการที่จ่ายเงิน | G47: 5
B48: 5.4 | C48: ใบสำคัญคู่จ่าย ที่เป็นใบเสร็จรับเงินจากเจ้าหนี้ มีรายการครบถ้วนตามที่กระทรวงการคลังกำหนด | G48: 3
B49: 5.5 | C49: ผู้จ่ายเงินได้ประทับตราข้อความ “จ่ายเงินแล้ว” โดยลงลายมือชื่อรับรองการจ่าย พร้อมทั้ง ระบุชื่อตัวบรรจง และวัน เดือน ปี ที่จ่ายเงินกำกับไว้ที่หลักฐานการจ่ายทุกรายการ | G49: 2
F50: รวม | G50: =SUM(G45:G49) -> 20 | H50: =SUM(H45:H49) -> 0
A51: 6 | B51: การจัดทำบัญชี
B52: 6.1 | C52: 1 มีการบันทึกการรับจ่ายเงินในสมุดเงินสดครบถ้วน ถูกต้องตรงกับหลักฐาน | G52: 5
B53: 6.2 | C53: มีการจัดทำทะเบียนคุมเงินนอกงบประมาณ ครบถ้วน เป็นปัจจุบัน และบันทึกรายการรับจ่าย ถูกต้องตรงกับหลักฐาน | G53: 3
B54: 6.3 | C54: มีการจัดทำทะเบียนคุมเงินรายได้แผ่นดิน ครบถ้วน เป็นปัจจุบัน และบันทึกรายการรับจ่าย ถูกต้องตรงกับหลักฐาน | G54: 1
B55: 6.4 | C55: มีการจัดทำทะเบียนคุมหลักฐานขอเบิก เพื่อบันทึกรายละเอียดการขอเบิกเงินงบประมาณ | G55: 1
B56: 6.5 | C56: มีการจัดทำทะเบียนคุมเอกสารแทนตัวเงิน เพื่อบันทึกควบคุม เช็ค สัญญาการยืมเงิน และใบสำคัญรองจ่าย รวมทั้งบันทึก การเปลี่ยนสภาพ ของสัญญาการยืมเงิน และใบสำคัญรองจ่ายครบถ้วน ถูกต้องเป็นปัจจุบัน | G56: 2
B57: 6.6 | C57: มีการจัดทำทะเบียนเงินฝากธนาคารประเภทกระแสรายวัน ครบทุกบัญชี โดยบันทึกรายการถูกต้อง ครบถ้วนตรงตามหลักฐาน หมายเหตุ : กรณีโรงเรียนไม่มีเงินฝากธนาคารประเภทกระแสรายวันให้ระบุ N/A | G57: 2
B58: 6.7 | C58: การควบคุมเงินที่ฝากส่วนราชการผู้เบิก มีการจัดทำสมุดคู่ฝาก (ส่วนราชการผู้เบิก) โดยบันทึกรายการถูกต้อง ครบถ้วนตรงกับหลักฐาน (ใบนำฝาก – เบิกถอน) | G58: 3
F59: รวม | G59: =SUM(G52:G58) -> 17 | H59: =(SUM(H52:H58)+(2*(COUNTIF(H57,"N/A")))) -> 0
A60: 7 | B60: การจัดทำรายงานการเงิน
B61: ทุกสิ้นเดือนมีการจัดทำรายงานการเงินประจำเดือน ดังต่อไปนี้
B62: 7.1 | C62: จัดทำรายงานประเภทเงินคงเหลือ โดยยอดเงินคงเหลือแต่ละประเภทถูกต้อง ตรงกับสมุดเงินสด ทะเบียนคุมเงินนอกงบประมาณ ทะเบียนคุมเงินรายได้แผ่นดิน และรายงานเงินคงเหลือประจำวัน ณ วันทำการสุดท้ายของเดือน | G62: 2
B63: 7.2 | C63: จัดทำงบเทียบยอดเงินฝากธนาคารประเภทกระแสรายวัน ทุกบัญชีเป็นประจำทุกเดือน โดยยอดคงเหลือตามรายงานธนาคาร (Bank Statement) ถูกต้องตรงกับยอดคงเหลือ ตามทะเบียนเงินฝากธนาคารประเภทกระแสรายวัน กรณีไม่ตรงกัน สถานศึกษาสามารถ ระบุรายละเอียดความแตกต่างได้ หมายเหตุ : กรณีโรงเรียนไม่มีเงินฝากธนาคารประเภทกระแสรายวันให้ระบุ N/A | G63: 1
B64: จัดส่งรายงานการเงินประจำเดือนให้สำนักงานเขตพื้นที่การศึกษาทราบ
B65: เพื่อตรวจสอบและกำกับดูแล ภายในวันที่ 15 ของเดือนถัดไป ประกอบด้วย
B66: 7.3 | C66: สำเนารายงานเงินคงเหลือประจำวัน ณ วันทำการสุดท้ายของเดือน | G66: 0.5
B67: 7.4 | C67: รายงานประเภทเงินคงเหลือ | G67: 0.5
B68: 7.5 | C68: งบเทียบยอดเงินฝากธนาคาร กรณีสถานศึกษาเปิดบัญชีเงินฝากธนาคารประเภทกระแสรายวัน หมายเหตุ : กรณีโรงเรียนไม่มีเงินฝากธนาคารประเภทกระแสรายวันให้ระบุ N/A | G68: 0.5
B69: 7.6 | C69: จัดทำรายงานการรับ - จ่ายเงินรายได้สถานศึกษาประจำปีงบประมาณตามแบบที่สำนักงาน คณะกรรมการการศึกษาขั้นพื้นฐานกำหนดเสนอคณะกรรมการสถานศึกษาขั้นพื้นฐาน และสำนักงานเขตพื้นที่การศึกษาทราบภายใน 30 วัน นับแต่วันสิ้นปีงบประมาณ | G69: 0.5
F70: รวม | G70: =SUM(G62:G69) -> 5 | H70: =(SUM(H62:H69)+(1*(COUNTIF(H63,"N/A")))+(0.5*(COUNTIF(H68,"N/A")))) -> 0
A71: 8 | B71: การตรวจสอบรับจ่ายประจำวัน
B72: 8.1 | C72: มีการแต่งตั้งหรือมอบหมายผู้ทำหน้าที่ตรวจสอบรับจ่ายประจำวัน ตามระเบียบ ที่กระทรวงการคลังกำหนด (ปัจจุบันถือปฏิบัติตามระเบียบกระทรวงการคลัง ว่าด้วยการเบิกเงินจากคลัง การรับเงิน การจ่ายเงิน การเก็บรักษาเงิน และการนำเงินส่งคลัง พ.ศ. 2562 ข้อ 43 และข้อ 83 โดยอนุโลม) | G72: 1
B73: 8.2 | C73: ผู้ที่ได้รับมอบหมายมีการตรวจสอบรับจ่ายประจำวันตามที่ระเบียบกำหนด | G73: 2
F74: รวม | G74: =SUM(G72:G73) -> 3 | H74: =SUM(H72:H73) -> 0
A75: 9 | B75: การควบคุมเงินยืม
B76: (กรณีโรงเรียนไม่มีการยืมเงิน ให้ตอบ N/A ทุกข้อ)
B77: 9.1 | C77: สัญญาการยืมเงินเป็นไปตามแบบที่กระทรวงการคลังกำหนด และมีสาระสำคัญครบถ้วน | G77: 1
B78: 9.2 | C78: มีการจัดทำประมาณการค่าใช้จ่าย แนบประกอบสัญญาการยืมเงิน | G78: 1
B79: 9.3 | C79: ไม่มีการให้ลูกหนี้ยืมเงินครั้งใหม่ โดยที่ยังมิได้ส่งใช้เงินยืมรายเก่า | G79: 1
B80: 9.4 | C80: การส่งใช้เงินยืมเป็นไปตามระยะเวลาที่ระเบียบกำหนด | G80: 1
B81: 9.5 | C81: กรณีมีลูกหนี้เงินยืมค้างเกินระยะเวลาที่ระเบียบกำหนด มีการเร่งรัด ติดตาม และรายงานให้ผู้อำนวยการสถานศึกษาทราบ เพื่อพิจารณาสั่งการ | G81: 1
F82: รวม | G82: =SUM(G77:G81) -> 5 | H82: =(SUM(H77:H81)+(1*(COUNTIF(H77:H81,"N/A")))) -> 0
A83: 10 | B83: การควบคุมใบเสร็จรับเงิน
B84: 10.1 | C84: มีการจัดทำทะเบียนคุมใบเสร็จรับเงิน โดยบันทึกรายการถูกต้อง ครบถ้วน เป็นปัจจุบัน | G84: 1
B85: 10.2 | C85: ใบเสร็จรับเงินที่ลงรายการผิดพลาด สถานศึกษาใช้วิธีการขีดฆ่าจำนวนเงิน และเขียนใหม่ทั้งจำนวน พร้อมผู้รับเงิน ลงลายมือชื่อกำกับ กรณียกเลิกใบเสร็จรับเงิน มีการแนบต้นฉบับติดกับสำเนาใบเสร็จรับเงิน | G85: 1
B86: 10.3 | C86: ไม่มีการใช้ใบเสร็จข้ามปีงบประมาณ | G86: 1
B87: 10.4 | C87: ใบเสร็จรับเงินของปีงบประมาณก่อนที่ใช้ไม่หมดเล่ม สถานศึกษามีการประทับตราเลิกใช้ ปรุ หรือเจาะรูใบเสร็จรับเงินฉบับที่เหลือติดอยู่กับเล่ม เพื่อมิให้นำมาใช้รับเงินได้อีก | G87: 1
B88: 10.5 | C88: มีการจัดทำรายงานการใช้ใบเสร็จรับเงินเมื่อสิ้นปีงบประมาณ โดยมีข้อมูล ที่เป็นสาระสำคัญครบถ้วน และเสนอให้ผู้อำนวยการสถานศึกษา และสำนักงาน เขตพื้นที่การศึกษา ทราบ อย่างช้าไม่เกินวันที่ 31 ตุลาคมของปีงบประมาณถัดไป | G88: 1
F89: รวม | G89: =SUM(G84:G88) -> 5 | H89: =SUM(H84:H88) -> 0
F90: รวมทั้งสิ้น | G90: =SUM(G89,G22,G29,G36,G43,G50,G59,G70,G74,G82) -> 100 | H90: =SUM(H89,H22,H29,H36,H43,H50,H59,H70,H74,H82) -> 0
F92: ผลการประเมินการปฏิบัติงานอยู่ในระดับ | H92: =IF(H90<60,"ปรับปรุง",IF(H90<=69.5,"พอใช้",IF(H90<=84.5,"ดี",IF(H90>=85,"ดีมาก")))) -> ปรับปรุง
B94: ลงชื่อ..............................................ผู้ประเมิน | F94: ลงชื่อ..............................................ผู้ประเมิน
B95: (...............................................) | F95: (.................................................)
B96: ตำแหน่ง..................................................... | F96: ตำแหน่ง.....................................................
B97: วันที่............................................................ | F97: วันที่............................................................
D100: ลงชื่อ........................................................
D101: (......................................................)
D102: ผู้อำนวยการสถานศึกษา
D103: วันที่............................................
B104: หมายเหตุ
C105: 1. ให้โรงเรียนบันทึกผลการประเมินการปฏิบัติงานด้านการเงิน การบัญชีของตนเอง ให้ครบถ้วนตามเกณฑ์การประเมิน
...

Sheet แบบ 2515-3
BR1: แบบ 2515 - 3
A2: แบบรายงานผลการประเมินการปฏิบัติงานด้านการเงิน การบัญชีของสถานศึกษาที่ปฏิบัติตามคู่มือการบัญชีสำหรับหน่วยงานย่อย พ.ศ. 2515
Q3: โรงเรียน | T3: ='แบบ 2515-2'!C6 -> 0 | AF3: สังกัด | AH3: ='แบบ 2515-2'!F6 -> 0
A5: ลำดับที่ | B5: โรงเรียน | C5: จำนวนนักเรียน | D5: ขนาดโรงเรียน | E5: 1. การบริหารเงินของสถานศึกษา | N5: 2. การควบคุมเงินคงเหลือ | T5: 3. การเก็บรักษาเงิน | Z5: 4. การรับเงิน | AF5: 5. การจ่ายเงิน | AL5: 6. การจัดทำบัญชี | AT5: 7. รายงานการเงิน | BA5: 8. การตรวจสอบ การรับจ่ายประจำวัน | BD5: 9. การควบคุมเงินยืม | BJ5: 10. การควบคุมใบเสร็จรับเงิน | BP5: ค่าคะแนนรวม | BQ5: ระดับ ค่าคะแนน | BR5: ผลการประเมินการปฏิบัติงาน
E6: 1.1 | F6: 1.2 | G6: 1.3 | H6: 1.4 | I6: 1.5 | J6: 1.6 | K6: 1.7 | L6: 1.8 | M6: รวม | N6: 2.1 | O6: 2.2 | P6: 2.3 | Q6: 2.4 | R6: 2.5 | S6: รวม | T6: 3.1 | U6: 3.2 | V6: 3.3 | W6: 3.4 | X6: 3.5 | Y6: รวม | Z6: 4.1 | AA6: 4.2 | AB6: 4.3 | AC6: 4.4 | AD6: 4.5 | AE6: รวม | AF6: 5.1 | AG6: 5.2 | AH6: 5.3 | AI6: 5.4 | AJ6: 5.5 | AK6: รวม | AL6: 6.1 | AM6: 6.2 | AN6: 6.3 | AO6: 6.4 | AP6: 6.5 | AQ6: 6.6 | AR6: 6.7 | AS6: รวม | AT6: 7.1 | AU6: 7.2 | AV6: 7.3 | AW6: 7.4 | AX6: 7.5 | AY6: 7.6 | AZ6: รวม | BA6: 8.1 | BB6: 8.2 | BC6: รวม | BD6: 9.1 | BE6: 9.2 | BF6: 9.3 | BG6: 9.4 | BH6: 9.5 | BI6: รวม | BJ6: 10.1 | BK6: 10.2 | BL6: 10.3 | BM6: 10.4 | BN6: 10.5 | BO6: รวม
E7: 2 | F7: 1 | G7: 1 | H7: 1 | I7: 1 | J7: 2 | K7: 1 | L7: 1 | M7: =SUM(E7:L7) -> 10 | N7: 5 | O7: 5 | P7: 2 | Q7: 5 | R7: 3 | S7: =SUM(N7:R7) -> 20 | T7: 1 | U7: 1 | V7: 2 | W7: 0.5 | X7: 0.5 | Y7: =SUM(T7:X7) -> 5 | Z7: 1 | AA7: 2 | AB7: 4 | AC7: 2 | AD7: 1 | AE7: =SUM(Z7:AD7) -> 10 | AF7: 5 | AG7: 5 | AH7: 5 | AI7: 3 | AJ7: 2 | AK7: =SUM(AF7:AJ7) -> 20 | AL7: 5 | AM7: 3 | AN7: 1 | AO7: 1 | AP7: 2 | AQ7: 2 | AR7: 3 | AS7: =SUM(AL7:AR7) -> 17 | AT7: 2 | AU7: 1 | AV7: 0.5 | AW7: 0.5 | AX7: 0.5 | AY7: 0.5 | AZ7: =SUM(AT7:AY7) -> 5 | BA7: 1 | BB7: 2 | BC7: =SUM(BA7:BB7) -> 3 | BD7: 1 | BE7: 1 | BF7: 1 | BG7: 1 | BH7: 1 | BI7: =SUM(BD7:BH7) -> 5 | BJ7: 1 | BK7: 1 | BL7: 1 | BM7: 1 | BN7: 1 | BO7: =SUM(BJ7:BN7) -> 5 | BP7: =SUM(BO7,BI7,BC7,AZ7,AS7,AK7,AE7,Y7,S7,M7) -> 100
B8: ='แบบ 2515-2'!C6 -> 0 | C8: ='แบบ 2515-2'!D7 -> 0 | D8: =IF(C8<120,"เล็ก",IF(C8<=719,"กลาง",IF(C8<=1679,"ใหญ่",IF(C8>=1680,"ใหญ่พิเศษ")))) -> เล็ก | E8: ='แบบ 2515-2'!H12 -> 0 | F8: ='แบบ 2515-2'!H13 -> 0 | G8: ='แบบ 2515-2'!H14 -> 0 | H8: ='แบบ 2515-2'!H15 -> 0 | I8: ='แบบ 2515-2'!H17 -> 0 | J8: ='แบบ 2515-2'!H18 -> 0 | K8: ='แบบ 2515-2'!H20 -> 0 | L8: ='แบบ 2515-2'!H21 -> 0 | M8: =SUM(E8:L8) -> 0 | N8: ='แบบ 2515-2'!H24 -> 0 | O8: ='แบบ 2515-2'!H25 -> 0 | P8: ='แบบ 2515-2'!H26 -> 0 | Q8: ='แบบ 2515-2'!H27 -> 0 | R8: ='แบบ 2515-2'!H28 -> 0 | S8: =(SUM(N8:R8)+(5*(COUNTIF(Q8,"N/A")))) -> 0 | T8: ='แบบ 2515-2'!H31 -> 0 | U8: ='แบบ 2515-2'!H32 -> 0 | V8: ='แบบ 2515-2'!H33 -> 0 | W8: ='แบบ 2515-2'!H34 -> 0 | X8: ='แบบ 2515-2'!H35 -> 0 | Y8: =SUM(T8:X8) -> 0 | Z8: ='แบบ 2515-2'!H38 -> 0 | AA8: ='แบบ 2515-2'!H39 -> 0 | AB8: ='แบบ 2515-2'!H40 -> 0 | AC8: ='แบบ 2515-2'!H41 -> 0 | AD8: ='แบบ 2515-2'!H42 -> 0 | AE8: =SUM(Z8:AD8) -> 0 | AF8: ='แบบ 2515-2'!H45 -> 0 | AG8: ='แบบ 2515-2'!H46 -> 0 | AH8: ='แบบ 2515-2'!H47 -> 0 | AI8: ='แบบ 2515-2'!H48 -> 0 | AJ8: ='แบบ 2515-2'!H49 -> 0 | AK8: =SUM(AF8:AJ8) -> 0 | AL8: ='แบบ 2515-2'!H52 -> 0 | AM8: ='แบบ 2515-2'!H53 -> 0 | AN8: ='แบบ 2515-2'!H54 -> 0 | AO8: ='แบบ 2515-2'!H55 -> 0 | AP8: ='แบบ 2515-2'!H56 -> 0 | AQ8: ='แบบ 2515-2'!H57 -> 0 | AR8: ='แบบ 2515-2'!H58 -> 0 | AS8: =(SUM(AL8:AR8)+(2*(COUNTIF(AQ8,"N/A")))) -> 0 | AT8: ='แบบ 2515-2'!H62 -> 0 | AU8: ='แบบ 2515-2'!H63 -> 0 | AV8: ='แบบ 2515-2'!H66 -> 0 | AW8: ='แบบ 2515-2'!H67 -> 0 | AX8: ='แบบ 2515-2'!H68 -> 0 | AY8: ='แบบ 2515-2'!H69 -> 0 | AZ8: =(SUM(AT8:AY8)+(1*(COUNTIF(AU8,"N/A")))+(0.5*(COUNTIF(AX8,"N/A")))) -> 0 | BA8: ='แบบ 2515-2'!H72 -> 0 | BB8: ='แบบ 2515-2'!H73 -> 0 | BC8: =SUM(BA8:BB8) -> 0 | BD8: ='แบบ 2515-2'!H77 -> 0 | BE8: ='แบบ 2515-2'!H78 -> 0 | BF8: ='แบบ 2515-2'!H79 -> 0 | BG8: ='แบบ 2515-2'!H80 -> 0 | BH8: ='แบบ 2515-2'!H81 -> 0 | BI8: =(SUM(BD8:BH8)+(1*(COUNTIF(BD8:BH8,"N/A")))) -> 0 | BJ8: ='แบบ 2515-2'!H84 -> 0 | BK8: ='แบบ 2515-2'!H85 -> 0 | BL8: ='แบบ 2515-2'!H86 -> 0 | BM8: ='แบบ 2515-2'!H87 -> 0 | BN8: ='แบบ 2515-2'!H88 -> 0 | BO8: =SUM(BJ8:BN8) -> 0 | BP8: =SUM(M8,S8,Y8,AE8,AK8,AS8,AZ8,BC8,BI8,BO8) -> 0 | BQ8: =IF(BP8<60,"1",IF(BP8<=69.5,"2",IF(BP8<=84.5,"3",IF(BP8>=85,"4")))) -> 1 | BR8: =IF(BP8<60,"ปรับปรุง",IF(BP8<=69.5,"พอใช้",IF(BP8<=84.5,"ดี",IF(BP8>=85,"ดีมาก")))) -> ปรับปรุง
A11: หมายเหตุ : เมื่อสถานศึกษาดำเนินการกรอกข้อมูลลงในแบบสรุปผลการประเมินฯ (แบบ 2515 - 2) ข้อมูลจะบันทึกในแบบสังเคราะห์ผลการประเมินฯ (แบบ 2515 - 3) โดยอัตโนมัติ
